BEGIN:VCALENDAR
VERSION:2.0
PRODID:-//Suas Leis a&#039; Ghàidhlig - ECPv6.15.17.1//NONSGML v1.0//EN
CALSCALE:GREGORIAN
METHOD:PUBLISH
X-WR-CALNAME:Suas Leis a&#039; Ghàidhlig
X-ORIGINAL-URL:https://suasleisaghaidhlig.scot
X-WR-CALDESC:Events for Suas Leis a&#039; Ghàidhlig
REFRESH-INTERVAL;VALUE=DURATION:PT1H
X-Robots-Tag:noindex
X-PUBLISHED-TTL:PT1H
BEGIN:VTIMEZONE
TZID:Europe/London
BEGIN:DAYLIGHT
TZOFFSETFROM:+0000
TZOFFSETTO:+0100
TZNAME:BST
DTSTART:20240331T010000
END:DAYLIGHT
BEGIN:STANDARD
TZOFFSETFROM:+0100
TZOFFSETTO:+0000
TZNAME:GMT
DTSTART:20241027T010000
END:STANDARD
BEGIN:DAYLIGHT
TZOFFSETFROM:+0000
TZOFFSETTO:+0100
TZNAME:BST
DTSTART:20250330T010000
END:DAYLIGHT
BEGIN:STANDARD
TZOFFSETFROM:+0100
TZOFFSETTO:+0000
TZNAME:GMT
DTSTART:20251026T010000
END:STANDARD
BEGIN:DAYLIGHT
TZOFFSETFROM:+0000
TZOFFSETTO:+0100
TZNAME:BST
DTSTART:20260329T010000
END:DAYLIGHT
BEGIN:STANDARD
TZOFFSETFROM:+0100
TZOFFSETTO:+0000
TZNAME:GMT
DTSTART:20261025T010000
END:STANDARD
BEGIN:DAYLIGHT
TZOFFSETFROM:+0000
TZOFFSETTO:+0100
TZNAME:BST
DTSTART:20270328T010000
END:DAYLIGHT
BEGIN:STANDARD
TZOFFSETFROM:+0100
TZOFFSETTO:+0000
TZNAME:GMT
DTSTART:20271031T010000
END:STANDARD
END:VTIMEZONE
BEGIN:VEVENT
DTSTART;TZID=Europe/London:20260226T130000
DTEND;TZID=Europe/London:20260226T150000
DTSTAMP:20260421T091741
CREATED:20251023T084150Z
LAST-MODIFIED:20251023T084150Z
UID:379-1772110800-1772118000@suasleisaghaidhlig.scot
SUMMARY:Suas Gàidhlig games afternoon
DESCRIPTION:
URL:https://suasleisaghaidhlig.scot/event/suas-gaidhlig-games-afternoon/
LOCATION:Argyle Youth & Community Centre\, Campbell Avenue\, Saltcoats\, KA215AG\, United Kingdom
END:VEVENT
BEGIN:VEVENT
DTSTART;VALUE=DATE:20260223
DTEND;VALUE=DATE:20260302
DTSTAMP:20260421T091741
CREATED:20251023T083707Z
LAST-MODIFIED:20251023T083707Z
UID:377-1771804800-1772409599@suasleisaghaidhlig.scot
SUMMARY:Seachdain na Gàidhlig week
DESCRIPTION:
URL:https://suasleisaghaidhlig.scot/event/seachdain-na-gaidhlig-week/
END:VEVENT
BEGIN:VEVENT
DTSTART;TZID=Europe/London:20260212T133000
DTEND;TZID=Europe/London:20260212T150000
DTSTAMP:20260421T091741
CREATED:20260205T164904Z
LAST-MODIFIED:20260205T164904Z
UID:550-1770903000-1770908400@suasleisaghaidhlig.scot
SUMMARY:Monthly meeting
DESCRIPTION:
URL:https://suasleisaghaidhlig.scot/event/monthly-meeting-2/
LOCATION:Argyle Youth & Community Centre\, Campbell Avenue\, Saltcoats\, KA215AG\, United Kingdom
END:VEVENT
BEGIN:VEVENT
DTSTART;TZID=Europe/London:20260115T140000
DTEND;TZID=Europe/London:20260115T153000
DTSTAMP:20260421T091741
CREATED:20251210T101256Z
LAST-MODIFIED:20251210T101256Z
UID:517-1768485600-1768491000@suasleisaghaidhlig.scot
SUMMARY:January Suas meeting
DESCRIPTION:
URL:https://suasleisaghaidhlig.scot/event/january-suas-meeting/
LOCATION:Saltcoats Library\, Springvale pl\, Saltcoats\, KA21 5LS\, United Kingdom
END:VEVENT
BEGIN:VEVENT
DTSTART;TZID=Europe/London:20251204T140000
DTEND;TZID=Europe/London:20251204T150000
DTSTAMP:20260421T091741
CREATED:20251023T083502Z
LAST-MODIFIED:20251027T170502Z
UID:374-1764856800-1764860400@suasleisaghaidhlig.scot
SUMMARY:Monthly Meeting
DESCRIPTION:
URL:https://suasleisaghaidhlig.scot/event/monthly-meeting/
LOCATION:Saltcoats Library\, Springvale pl\, Saltcoats\, KA21 5LS\, United Kingdom
END:VEVENT
BEGIN:VEVENT
DTSTART;TZID=Europe/London:20251128T193000
DTEND;TZID=Europe/London:20251128T204500
DTSTAMP:20260421T091741
CREATED:20251027T170541Z
LAST-MODIFIED:20251027T170541Z
UID:420-1764358200-1764362700@suasleisaghaidhlig.scot
SUMMARY:An Evening with the Hebridean Baker and Peter McQueen
DESCRIPTION:https://www.ticketsource.co.uk/harbour-arts-centre/t-zzvlrza
URL:https://suasleisaghaidhlig.scot/event/an-evening-with-the-hebridean-baker-and-peter-mcqueen/
LOCATION:Fullarton ConneXions\, KA12 8PE\, United Kingdom
END:VEVENT
BEGIN:VEVENT
DTSTART;TZID=Europe/London:20251106T140000
DTEND;TZID=Europe/London:20251106T153000
DTSTAMP:20260421T091741
CREATED:20251023T083237Z
LAST-MODIFIED:20251024T133958Z
UID:371-1762437600-1762443000@suasleisaghaidhlig.scot
SUMMARY:Annual General Meeting
DESCRIPTION:Please see here for the meeting agenda.
URL:https://suasleisaghaidhlig.scot/event/annual-general-meeting/
LOCATION:Saltcoats Library\, Springvale pl\, Saltcoats\, KA21 5LS\, United Kingdom
END:VEVENT
END:VCALENDAR