BEGIN:VCALENDAR
VERSION:2.0
PRODID:-//Suas Leis a&#039; Ghàidhlig - ECPv6.15.17.1//NONSGML v1.0//EN
CALSCALE:GREGORIAN
METHOD:PUBLISH
X-WR-CALNAME:Suas Leis a&#039; Ghàidhlig
X-ORIGINAL-URL:https://suasleisaghaidhlig.scot
X-WR-CALDESC:Events for Suas Leis a&#039; Ghàidhlig
REFRESH-INTERVAL;VALUE=DURATION:PT1H
X-Robots-Tag:noindex
X-PUBLISHED-TTL:PT1H
BEGIN:VTIMEZONE
TZID:Europe/London
BEGIN:DAYLIGHT
TZOFFSETFROM:+0000
TZOFFSETTO:+0100
TZNAME:BST
DTSTART:20250330T010000
END:DAYLIGHT
BEGIN:STANDARD
TZOFFSETFROM:+0100
TZOFFSETTO:+0000
TZNAME:GMT
DTSTART:20251026T010000
END:STANDARD
BEGIN:DAYLIGHT
TZOFFSETFROM:+0000
TZOFFSETTO:+0100
TZNAME:BST
DTSTART:20260329T010000
END:DAYLIGHT
BEGIN:STANDARD
TZOFFSETFROM:+0100
TZOFFSETTO:+0000
TZNAME:GMT
DTSTART:20261025T010000
END:STANDARD
BEGIN:DAYLIGHT
TZOFFSETFROM:+0000
TZOFFSETTO:+0100
TZNAME:BST
DTSTART:20270328T010000
END:DAYLIGHT
BEGIN:STANDARD
TZOFFSETFROM:+0100
TZOFFSETTO:+0000
TZNAME:GMT
DTSTART:20271031T010000
END:STANDARD
END:VTIMEZONE
BEGIN:VEVENT
DTSTART;VALUE=DATE:20260531
DTEND;VALUE=DATE:20260601
DTSTAMP:20260421T092058
CREATED:20260205T165413Z
LAST-MODIFIED:20260210T193738Z
UID:552-1780185600-1780271999@suasleisaghaidhlig.scot
SUMMARY:Ardrossan Highland Games
DESCRIPTION:We are hoping to have a stall at this event. Note that the usual date for the games has been changed\, because of the World Cup.
URL:https://suasleisaghaidhlig.scot/event/ardrossan-highland-games/
LOCATION:Ardrossan Park\, KA228AP
END:VEVENT
END:VCALENDAR